BEGIN:VCALENDAR
VERSION:2.0
PRODID:-//wp-events-plugin.com//7.2.3.1//EN
TZID:America/Denver
X-WR-TIMEZONE:America/Denver
BEGIN:VEVENT
UID:2092@westcusterlibrary.org
DTSTART;TZID=America/Denver:20250819T100000
DTEND;TZID=America/Denver:20250819T113000
DTSTAMP:20250812T184943Z
URL:https://www.westcusterlibrary.org/events/writing-your-memoir-national-
 memories-history-trauma/
SUMMARY:Writing Your Memoir: National Memories\, History & Trauma
DESCRIPTION:Join author Monica Young for a writing workshop at the West Cus
 ter County Library.  Sharing important historical experiences with future
  generations should be part of our DNA.  The Kennedy Assassination\, the 
 Challenger explosion\, and 9-11 are perfect examples.  Bring paper and a 
 pen to work on honing your writing skills in this hands on free class.  R
 egistration is required.
ATTACH;FMTTYPE=image/jpeg:https://www.westcusterlibrary.org/wp-content/upl
 oads/2025/08/28089a46-a034-4b7b-a824-9664a17cccea.png
CATEGORIES:Adults
LOCATION:West Custer County Library Community Room\, 209 Main St\, Westclif
 fe\, CO\, United States
GEO:38.136419;-105.467999
X-APPLE-STRUCTURED-LOCATION;VALUE=URI;X-ADDRESS=209 Main St\, Westcliffe\, 
 CO\, United States;X-APPLE-RADIUS=100;X-TITLE=West Custer County Library C
 ommunity Room:geo:38.136419,-105.467999
END:VEVENT
BEGIN:VTIMEZONE
TZID:America/Denver
X-LIC-LOCATION:America/Denver
BEGIN:DAYLIGHT
DTSTART:20250309T030000
TZOFFSETFROM:-0700
TZOFFSETTO:-0600
TZNAME:MDT
END:DAYLIGHT
END:VTIMEZONE
END:VCALENDAR