BEGIN:VCALENDAR
VERSION:2.0
PRODID:-//wp-events-plugin.com//7.2.3.1//EN
TZID:America/Denver
X-WR-TIMEZONE:America/Denver
BEGIN:VEVENT
UID:1812@westcusterlibrary.org
DTSTART;TZID=America/Denver:20250211T100000
DTEND;TZID=America/Denver:20250211T110000
DTSTAMP:20250108T225939Z
URL:https://www.westcusterlibrary.org/events/write-your-own-obituary/
SUMMARY:Write Your Own Obituary
DESCRIPTION:How do you want to be remembered?  Using writing prompts\, you
 'll describe who you are\, identify your accomplishments\, and create a tr
 ibute to be proud of.  Sign up with a friend and write each other's obitu
 ary.  Registration recommended.
ATTACH;FMTTYPE=image/jpeg:https://www.westcusterlibrary.org/wp-content/upl
 oads/2025/01/96813a84-6a8f-4e8b-b73b-801dfcaa915d.png
CATEGORIES:Adults
LOCATION:West Custer County Library Community Room\, 209 Main St\, Westclif
 fe\, CO\, United States
GEO:38.136419;-105.467999
X-APPLE-STRUCTURED-LOCATION;VALUE=URI;X-ADDRESS=209 Main St\, Westcliffe\, 
 CO\, United States;X-APPLE-RADIUS=100;X-TITLE=West Custer County Library C
 ommunity Room:geo:38.136419,-105.467999
END:VEVENT
BEGIN:VTIMEZONE
TZID:America/Denver
X-LIC-LOCATION:America/Denver
BEGIN:STANDARD
DTSTART:20241103T010000
TZOFFSETFROM:-0600
TZOFFSETTO:-0700
TZNAME:MST
END:STANDARD
END:VTIMEZONE
END:VCALENDAR