BEGIN:VCALENDAR
VERSION:2.0
PRODID:-//wp-events-plugin.com//7.2.3.1//EN
TZID:America/Denver
X-WR-TIMEZONE:America/Denver
BEGIN:VEVENT
UID:2862@westcusterlibrary.org
DTSTART;TZID=America/Denver:20260307T090000
DTEND;TZID=America/Denver:20260307T120000
DTSTAMP:20260330T173548Z
URL:https://www.westcusterlibrary.org/events/winter-hike/
SUMMARY:"Winter Hike"
DESCRIPTION:Waiver for Winter hike (PDF)\n\nJoin us for a "winter hike" exp
 erience @ the HORNCREEK TRAILHEAD\n\nIf you wish to attend\, you MUST sign
  a waiver. email mindy@westcusterlibrary.org for further details.\n
ATTACH;FMTTYPE=image/jpeg:https://www.westcusterlibrary.org/wp-content/upl
 oads/2026/02/Winter-Hike.png
CATEGORIES:Age 9-14,Family,High School Students,Kids (ages 5-10),Kids
 (ages 6-16),Teen (ages 14-18),Teens (ages 11-18),Teens (ages 13-18)
LOCATION:https://maps.app.goo.gl/ArXdkRN9fGtikr3c8
END:VEVENT
BEGIN:VTIMEZONE
TZID:America/Denver
X-LIC-LOCATION:America/Denver
BEGIN:STANDARD
DTSTART:20251102T010000
TZOFFSETFROM:-0600
TZOFFSETTO:-0700
TZNAME:MST
END:STANDARD
END:VTIMEZONE
END:VCALENDAR