BEGIN:VCALENDAR
VERSION:2.0
PRODID:-//wp-events-plugin.com//7.2.3.1//EN
TZID:America/Denver
X-WR-TIMEZONE:America/Denver
BEGIN:VEVENT
UID:2104@westcusterlibrary.org
DTSTART;TZID=America/Denver:20250624T120000
DTEND;TZID=America/Denver:20250624T130000
DTSTAMP:20250603T191842Z
URL:https://www.westcusterlibrary.org/events/why-emotional-intelligence-is
 -essential/
SUMMARY:WHY EMOTIONAL INTELLIGENCE IS ESSENTIAL
DESCRIPTION:Jaclyn Manzione MS\, NLC and Tom Manzione PhD\, LPC will lead a
  workshop on "Why Emotional Intelligence is Essential."  Emotional intell
 igence encompasses the ability to recognize one's feelings and those of ot
 hers\, as as the capacity to motivate oneself and manage emotions effectiv
 ely.  It is not a trait you're born with\; rather\, it consists of skills
  that can be cultivated over time.  Learn the key components of emotional
  intelligence.  Participants are welcome to bring a lunch.
ATTACH;FMTTYPE=image/jpeg:https://www.westcusterlibrary.org/wp-content/upl
 oads/2025/05/d047825c-d80b-4fa7-84ad-4e7feab232e7.png
CATEGORIES:Adults
LOCATION:West Custer County Library Community Room\, 209 Main St\, Westclif
 fe\, CO\, United States
GEO:38.136419;-105.467999
X-APPLE-STRUCTURED-LOCATION;VALUE=URI;X-ADDRESS=209 Main St\, Westcliffe\, 
 CO\, United States;X-APPLE-RADIUS=100;X-TITLE=West Custer County Library C
 ommunity Room:geo:38.136419,-105.467999
END:VEVENT
BEGIN:VTIMEZONE
TZID:America/Denver
X-LIC-LOCATION:America/Denver
BEGIN:DAYLIGHT
DTSTART:20250309T030000
TZOFFSETFROM:-0700
TZOFFSETTO:-0600
TZNAME:MDT
END:DAYLIGHT
END:VTIMEZONE
END:VCALENDAR