BEGIN:VCALENDAR
VERSION:2.0
PRODID:-//wp-events-plugin.com//7.2.3.1//EN
TZID:America/Denver
X-WR-TIMEZONE:America/Denver
BEGIN:VEVENT
UID:2064@westcusterlibrary.org
DTSTART;TZID=America/Denver:20250425T140000
DTEND;TZID=America/Denver:20250425T153000
DTSTAMP:20250415T230205Z
URL:https://www.westcusterlibrary.org/events/westcliffe-mountain-mahjong/
SUMMARY:WESTCLIFFE MOUNTAIN MAHJONG
DESCRIPTION:The community of Mahjong enthusiasts is growing.  Players of a
 ll levels are welcome to participate from beginners to experienced Mahjong
  players.  There will be lesson support for beginners.  Tables will be s
 et up by experience levels from beginners to more experienced players.  I
 f you can\, please bring a Mahjong Mat.  An extra Mahjong Set or two woul
 d be welcome.
ATTACH;FMTTYPE=image/jpeg:https://www.westcusterlibrary.org/wp-content/upl
 oads/2025/04/c2ac2186-bc39-4bf5-9400-4789d5a86486.png
CATEGORIES:Adults
LOCATION:West Custer County Library Community Room\, 209 Main St\, Westclif
 fe\, CO\, United States
GEO:38.136419;-105.467999
X-APPLE-STRUCTURED-LOCATION;VALUE=URI;X-ADDRESS=209 Main St\, Westcliffe\, 
 CO\, United States;X-APPLE-RADIUS=100;X-TITLE=West Custer County Library C
 ommunity Room:geo:38.136419,-105.467999
END:VEVENT
BEGIN:VTIMEZONE
TZID:America/Denver
X-LIC-LOCATION:America/Denver
BEGIN:DAYLIGHT
DTSTART:20250309T030000
TZOFFSETFROM:-0700
TZOFFSETTO:-0600
TZNAME:MDT
END:DAYLIGHT
END:VTIMEZONE
END:VCALENDAR