BEGIN:VCALENDAR
VERSION:2.0
PRODID:-//wp-events-plugin.com//7.2.3.1//EN
TZID:America/Denver
X-WR-TIMEZONE:America/Denver
BEGIN:VEVENT
UID:1966@westcusterlibrary.org
DTSTART;TZID=America/Denver:20250404T133000
DTEND;TZID=America/Denver:20250404T143000
DTSTAMP:20250418T134632Z
URL:https://www.westcusterlibrary.org/events/westcliffe-mountain-mahjong-f
 ree/
SUMMARY:Westcliffe Mountain Mahjong (Free)
DESCRIPTION:Join the first gathering of Westcliffe Mountain Mahjong!  Whet
 her you're a seasoned player or new to the game\, come enjoy a free introd
 uctory lesson and some friendly games.  The introductory lesson will be t
 aught by Laura Hart\, mahjong enthusiast and lover of all things outdoors.
   We'll have two mahjong sets ready for a table of beginners and a table 
 for players with some experience.  Let's build a community of mahjong ent
 husiasts together.  See you there.
ATTACH;FMTTYPE=image/jpeg:https://www.westcusterlibrary.org/wp-content/upl
 oads/2025/03/f2b74b72-e29c-4b35-8ef7-07186bca23ee-1.png
CATEGORIES:Adults
LOCATION:West Custer County Library Community Room\, 209 Main St\, Westclif
 fe\, CO\, United States
GEO:38.136419;-105.467999
X-APPLE-STRUCTURED-LOCATION;VALUE=URI;X-ADDRESS=209 Main St\, Westcliffe\, 
 CO\, United States;X-APPLE-RADIUS=100;X-TITLE=West Custer County Library C
 ommunity Room:geo:38.136419,-105.467999
END:VEVENT
BEGIN:VTIMEZONE
TZID:America/Denver
X-LIC-LOCATION:America/Denver
BEGIN:DAYLIGHT
DTSTART:20250309T030000
TZOFFSETFROM:-0700
TZOFFSETTO:-0600
TZNAME:MDT
END:DAYLIGHT
END:VTIMEZONE
END:VCALENDAR