BEGIN:VCALENDAR
VERSION:2.0
PRODID:-//wp-events-plugin.com//7.2.3.1//EN
TZID:America/Denver
X-WR-TIMEZONE:America/Denver
BEGIN:VEVENT
UID:2078@westcusterlibrary.org
DTSTART;TZID=America/Denver:20250620T150000
DTEND;TZID=America/Denver:20250620T170000
DTSTAMP:20250611T174602Z
URL:https://www.westcusterlibrary.org/events/westcliffe-mountain-mahjong-2
 /
SUMMARY:WESTCLIFFE MOUNTAIN MAHJONG
DESCRIPTION:Curious about Mahjong?  Come on down to the West Custer County
  Library!  There will be tables for experienced players and beginners.  
 Lesson support will be available for those new to the game.  If you have 
 a 2025 card and a set\, please bring them just in case.  There will be a 
 few cards and sets available.
ATTACH;FMTTYPE=image/jpeg:https://www.westcusterlibrary.org/wp-content/upl
 oads/2025/04/967851b1-b80d-4062-8476-a39286dd0175.png
CATEGORIES:Adults
LOCATION:West Custer County Library Community Room\, 209 Main St\, Westclif
 fe\, CO\, United States
GEO:38.136419;-105.467999
X-APPLE-STRUCTURED-LOCATION;VALUE=URI;X-ADDRESS=209 Main St\, Westcliffe\, 
 CO\, United States;X-APPLE-RADIUS=100;X-TITLE=West Custer County Library C
 ommunity Room:geo:38.136419,-105.467999
END:VEVENT
BEGIN:VTIMEZONE
TZID:America/Denver
X-LIC-LOCATION:America/Denver
BEGIN:DAYLIGHT
DTSTART:20250309T030000
TZOFFSETFROM:-0700
TZOFFSETTO:-0600
TZNAME:MDT
END:DAYLIGHT
END:VTIMEZONE
END:VCALENDAR