BEGIN:VCALENDAR
VERSION:2.0
PRODID:-//wp-events-plugin.com//7.2.3.1//EN
TZID:America/Denver
X-WR-TIMEZONE:America/Denver
BEGIN:VEVENT
UID:2107@westcusterlibrary.org
DTSTART;TZID=America/Denver:20250528T120000
DTEND;TZID=America/Denver:20250528T123000
DTSTAMP:20250527T233639Z
URL:https://www.westcusterlibrary.org/events/wednesday-wellness-walks-2025
 -05-28/
SUMMARY:We're Taking a Break from Wellness Walks
DESCRIPTION:We're taking a break from Wellness Walks.  Watch the website f
 or their return!
ATTACH;FMTTYPE=image/jpeg:https://www.westcusterlibrary.org/wp-content/upl
 oads/2025/03/a3536026-aa7c-4bb8-86bf-b12484b4def2.png
CATEGORIES:Adults
LOCATION:West Custer Library\, 209 Main Street\, Westcliffe\, Colorado\, Un
 ited States
GEO:38.136182;-105.468042
X-APPLE-STRUCTURED-LOCATION;VALUE=URI;X-ADDRESS=209 Main Street\, Westcliff
 e\, Colorado\, United States;X-APPLE-RADIUS=100;X-TITLE=West Custer Librar
 y:geo:38.136182,-105.468042
END:VEVENT
BEGIN:VTIMEZONE
TZID:America/Denver
X-LIC-LOCATION:America/Denver
BEGIN:DAYLIGHT
DTSTART:20250309T030000
TZOFFSETFROM:-0700
TZOFFSETTO:-0600
TZNAME:MDT
END:DAYLIGHT
END:VTIMEZONE
END:VCALENDAR