BEGIN:VCALENDAR
VERSION:2.0
PRODID:-//wp-events-plugin.com//7.2.3.1//EN
TZID:America/Denver
X-WR-TIMEZONE:America/Denver
BEGIN:VEVENT
UID:1756@westcusterlibrary.org
DTSTART;TZID=America/Denver:20250319T120000
DTEND;TZID=America/Denver:20250319T123000
DTSTAMP:20250319T145132Z
URL:https://www.westcusterlibrary.org/events/wednesday-wellness-walks-10/
SUMMARY:Wednesday Wellness Walks
DESCRIPTION:Let's keep Custer County citizens healthy this winter.  Meet a
 t the library at noon to go on a walk to the Bluffs and back to the librar
 y.  Please dress for the weather.  If the weather is inclement please ca
 ll the library at (719) 783-9138 to see if the walk is cancelled. For anyo
 ne participating in the Winter Adult Reading Program you can earn a bingo 
 box by completing a walk.
ATTACH;FMTTYPE=image/jpeg:https://www.westcusterlibrary.org/wp-content/upl
 oads/2024/11/d9a1e1e4-895d-4475-93fc-b8ebf81f3a6d.png
CATEGORIES:Adults
LOCATION:West Custer Library\, 209 Main Street\, Westcliffe\, Colorado\, Un
 ited States
GEO:38.136182;-105.468042
X-APPLE-STRUCTURED-LOCATION;VALUE=URI;X-ADDRESS=209 Main Street\, Westcliff
 e\, Colorado\, United States;X-APPLE-RADIUS=100;X-TITLE=West Custer Librar
 y:geo:38.136182,-105.468042
END:VEVENT
BEGIN:VTIMEZONE
TZID:America/Denver
X-LIC-LOCATION:America/Denver
BEGIN:DAYLIGHT
DTSTART:20250309T030000
TZOFFSETFROM:-0700
TZOFFSETTO:-0600
TZNAME:MDT
END:DAYLIGHT
END:VTIMEZONE
END:VCALENDAR