BEGIN:VCALENDAR
VERSION:2.0
PRODID:-//wp-events-plugin.com//7.2.3.1//EN
TZID:America/Denver
X-WR-TIMEZONE:America/Denver
BEGIN:VEVENT
UID:1955@westcusterlibrary.org
DTSTART;TZID=America/Denver:20250521T090000
DTEND;TZID=America/Denver:20250521T100000
DTSTAMP:20250219T212047Z
URL:https://www.westcusterlibrary.org/events/vso-book-group-discuss-the-wo
 men-by-kristin-hannah-2025-05-21/
SUMMARY:VSO BOOK GROUP Discuss "The Women" by Kristin Hannah
DESCRIPTION:Join Jaclyn Manzione as she leads a VETERAN ONLY book discussi
 on following the Wednesday Veteran Coffee Group.  Stop by the library fro
 nt desk to place a hold on a copy of "The Women" by Kristin Hannah.\n
ATTACH;FMTTYPE=image/jpeg:https://www.westcusterlibrary.org/wp-content/upl
 oads/2025/02/e56bf663-931d-4f55-8ce1-d1e3a75843fa-2.png
CATEGORIES:Veterans
LOCATION:West Custer County Library Community Room\, 209 Main St\, Westclif
 fe\, CO\, United States
GEO:38.136419;-105.467999
X-APPLE-STRUCTURED-LOCATION;VALUE=URI;X-ADDRESS=209 Main St\, Westcliffe\, 
 CO\, United States;X-APPLE-RADIUS=100;X-TITLE=West Custer County Library C
 ommunity Room:geo:38.136419,-105.467999
END:VEVENT
BEGIN:VTIMEZONE
TZID:America/Denver
X-LIC-LOCATION:America/Denver
BEGIN:DAYLIGHT
DTSTART:20250309T030000
TZOFFSETFROM:-0700
TZOFFSETTO:-0600
TZNAME:MDT
END:DAYLIGHT
END:VTIMEZONE
END:VCALENDAR