BEGIN:VCALENDAR
VERSION:2.0
PRODID:-//wp-events-plugin.com//7.2.3.1//EN
TZID:America/Denver
X-WR-TIMEZONE:America/Denver
BEGIN:VEVENT
UID:2562@westcusterlibrary.org
DTSTART;TZID=America/Denver:20251111T100000
DTEND;TZID=America/Denver:20251111T113000
DTSTAMP:20251124T162018Z
URL:https://www.westcusterlibrary.org/events/visual-storytelling/
SUMMARY:VISUAL STORYTELLING
DESCRIPTION:Greg Smith an award winning photographer\, writer\, and produce
 r\, will share tales of his popular book "Altitude Adjustment".  He'll re
 late approaches to telling stories in words and pictures. How do you gathe
 r and edit years of work?  How do you find and create storylines?  How d
 o you turn these into a book?  See\, learn and have some fun with a story
 telling neighbor!
ATTACH;FMTTYPE=image/jpeg:https://www.westcusterlibrary.org/wp-content/upl
 oads/2025/10/unnamed-27.jpg
CATEGORIES:Adults
LOCATION:West Custer County Library Community Room\, 209 Main St\, Westclif
 fe\, CO\, United States
GEO:38.136419;-105.467999
X-APPLE-STRUCTURED-LOCATION;VALUE=URI;X-ADDRESS=209 Main St\, Westcliffe\, 
 CO\, United States;X-APPLE-RADIUS=100;X-TITLE=West Custer County Library C
 ommunity Room:geo:38.136419,-105.467999
END:VEVENT
BEGIN:VTIMEZONE
TZID:America/Denver
X-LIC-LOCATION:America/Denver
BEGIN:STANDARD
DTSTART:20251102T010000
TZOFFSETFROM:-0600
TZOFFSETTO:-0700
TZNAME:MST
END:STANDARD
END:VTIMEZONE
END:VCALENDAR