BEGIN:VCALENDAR
VERSION:2.0
PRODID:-//wp-events-plugin.com//7.2.3.1//EN
TZID:America/Denver
X-WR-TIMEZONE:America/Denver
BEGIN:VEVENT
UID:1746@westcusterlibrary.org
DTSTART;TZID=America/Denver:20250114T100000
DTEND;TZID=America/Denver:20250114T113000
DTSTAMP:20241123T022225Z
URL:https://www.westcusterlibrary.org/events/ufo-event-sorting-fact-from-f
 antasy/
SUMMARY:UFO Event Sorting Fact From Fantasy
DESCRIPTION:UFOs have been in the news a lot lately\, and discussions about
  them have even made their way into congressional hearings and Department 
 of Defense research programs. But\, given the nature of the topic\, it can
  be hard to tell what information is reliable\, whether UFOs are usually 
 conventional things that happen to look strange\, or whether there's truly
  something strange going on in the skies. In this talk\, Sarah Scoles will
  use examples of past UFO fervor\, public and governmental\, to help sort 
 fact from fantasy in the present.
ATTACH;FMTTYPE=image/jpeg:https://www.westcusterlibrary.org/wp-content/upl
 oads/2024/11/a239f671-d67b-475b-9ee5-efdb633567dd.png
CATEGORIES:Adults
LOCATION:West Custer County Library Community Room\, 209 Main St\, Westclif
 fe\, CO\, United States
GEO:38.136419;-105.467999
X-APPLE-STRUCTURED-LOCATION;VALUE=URI;X-ADDRESS=209 Main St\, Westcliffe\, 
 CO\, United States;X-APPLE-RADIUS=100;X-TITLE=West Custer County Library C
 ommunity Room:geo:38.136419,-105.467999
END:VEVENT
BEGIN:VTIMEZONE
TZID:America/Denver
X-LIC-LOCATION:America/Denver
BEGIN:STANDARD
DTSTART:20241103T010000
TZOFFSETFROM:-0600
TZOFFSETTO:-0700
TZNAME:MST
END:STANDARD
END:VTIMEZONE
END:VCALENDAR