BEGIN:VCALENDAR
VERSION:2.0
PRODID:-//wp-events-plugin.com//7.2.3.1//EN
TZID:America/Denver
X-WR-TIMEZONE:America/Denver
BEGIN:VEVENT
UID:2759@westcusterlibrary.org
DTSTART;TZID=America/Denver:20260204T161500
DTEND;TZID=America/Denver:20260204T171500
DTSTAMP:20251227T174950Z
URL:https://www.westcusterlibrary.org/events/tween-book-club-meet-an-autho
 r/
SUMMARY:TWEEN BOOK CLUB: MEET AN AUTHOR
DESCRIPTION:Meet author of the National Park Mystery series\, Aaron Johnson
 .\n\nAaron will be doing a fun Q&amp\;A about his books and will specifica
 lly discuss his 1st book in his series: National Park Mysteries: Rocky Mou
 ntain National Park. \n\nBring the whole family and enjoy some free snack
 s and drinks.\n\nFree bookmarks\, and free stickers will be handed out at 
 the event.\n\n&nbsp\;
ATTACH;FMTTYPE=image/jpeg:https://www.westcusterlibrary.org/wp-content/upl
 oads/2025/12/updatespecialtweenbookclub2.png
CATEGORIES:Age 9-14,Family,High School Students,Kids (ages 5-10),Kids
 (ages 6-16),Teen (ages 14-18),Teens (ages 11-18),Teens (ages 13-18)
LOCATION:West Custer County Library Community Room\, 209 Main St\, Westclif
 fe\, CO\, United States
GEO:38.136419;-105.467999
X-APPLE-STRUCTURED-LOCATION;VALUE=URI;X-ADDRESS=209 Main St\, Westcliffe\, 
 CO\, United States;X-APPLE-RADIUS=100;X-TITLE=West Custer County Library C
 ommunity Room:geo:38.136419,-105.467999
END:VEVENT
BEGIN:VTIMEZONE
TZID:America/Denver
X-LIC-LOCATION:America/Denver
BEGIN:STANDARD
DTSTART:20251102T010000
TZOFFSETFROM:-0600
TZOFFSETTO:-0700
TZNAME:MST
END:STANDARD
END:VTIMEZONE
END:VCALENDAR