BEGIN:VCALENDAR
VERSION:2.0
PRODID:-//wp-events-plugin.com//7.2.3.1//EN
TZID:America/Denver
X-WR-TIMEZONE:America/Denver
BEGIN:VEVENT
UID:2214@westcusterlibrary.org
DTSTART;TZID=America/Denver:20251119T161500
DTEND;TZID=America/Denver:20251119T171500
DTSTAMP:20250911T231614Z
URL:https://www.westcusterlibrary.org/events/tween-book-club-3-2025-09-03-
 2025-09-17-2025-10-01-2025-10-15-2025-11-05-2025-11-19/
SUMMARY:Tween Book Club
DESCRIPTION:Join retired Custer County School Principal and teacher Barb Jo
 nes for a time of discussion and reflection on selected\, age appropriate 
 books.\n\nNo need to have read books prior to joining. Each child will rec
 eive the book prior to reading while supplies last.\n\nAsk front desk staf
 f or email mindy@westcusterlibrary.org for any questions.
ATTACH;FMTTYPE=image/jpeg:https://www.westcusterlibrary.org/wp-content/upl
 oads/2025/08/tweenbookclubupdated.png
CATEGORIES:Age 9-14
LOCATION:West Custer County Library Community Room\, 209 Main St\, Westclif
 fe\, CO\, United States
GEO:38.136419;-105.467999
X-APPLE-STRUCTURED-LOCATION;VALUE=URI;X-ADDRESS=209 Main St\, Westcliffe\, 
 CO\, United States;X-APPLE-RADIUS=100;X-TITLE=West Custer County Library C
 ommunity Room:geo:38.136419,-105.467999
END:VEVENT
BEGIN:VTIMEZONE
TZID:America/Denver
X-LIC-LOCATION:America/Denver
BEGIN:STANDARD
DTSTART:20251102T010000
TZOFFSETFROM:-0600
TZOFFSETTO:-0700
TZNAME:MST
END:STANDARD
END:VTIMEZONE
END:VCALENDAR