BEGIN:VCALENDAR
VERSION:2.0
PRODID:-//wp-events-plugin.com//7.2.3.1//EN
TZID:America/Denver
X-WR-TIMEZONE:America/Denver
BEGIN:VEVENT
UID:1934@westcusterlibrary.org
DTSTART;TZID=America/Denver:20250312T161500
DTEND;TZID=America/Denver:20250312T171500
DTSTAMP:20250130T204800Z
URL:https://www.westcusterlibrary.org/events/tween-book-club-10/
SUMMARY:TWEEN BOOK CLUB
DESCRIPTION:Join Barb Jones\, Custer County School principal and teacher\, 
 in discussing this weeks book: THE DARK IS RISING.\n\nNo need to have read
  the book to join. Free book for participants.
ATTACH;FMTTYPE=image/jpeg:https://www.westcusterlibrary.org/wp-content/upl
 oads/2025/01/Tweenbookmarch2.png
CATEGORIES:Age 9-14,Teens (ages 11-18)
LOCATION:West Custer County Library Community Room\, 209 Main St\, Westclif
 fe\, CO\, United States
GEO:38.136419;-105.467999
X-APPLE-STRUCTURED-LOCATION;VALUE=URI;X-ADDRESS=209 Main St\, Westcliffe\, 
 CO\, United States;X-APPLE-RADIUS=100;X-TITLE=West Custer County Library C
 ommunity Room:geo:38.136419,-105.467999
END:VEVENT
BEGIN:VTIMEZONE
TZID:America/Denver
X-LIC-LOCATION:America/Denver
BEGIN:DAYLIGHT
DTSTART:20250309T030000
TZOFFSETFROM:-0700
TZOFFSETTO:-0600
TZNAME:MDT
END:DAYLIGHT
END:VTIMEZONE
END:VCALENDAR