BEGIN:VCALENDAR
VERSION:2.0
PRODID:-//wp-events-plugin.com//7.2.3.1//EN
TZID:America/Denver
X-WR-TIMEZONE:America/Denver
BEGIN:VEVENT
UID:2057@westcusterlibrary.org
DTSTART;TZID=America/Denver:20250429T103000
DTEND;TZID=America/Denver:20250429T120000
DTSTAMP:20250402T165046Z
URL:https://www.westcusterlibrary.org/events/the-empowered-caregiver-2-par
 t-series-2/
SUMMARY:THE EMPOWERED CAREGIVER (2 Part Series)
DESCRIPTION:The Empowered Caregiver is an educational program presented by 
 the Alzheimer's Association and the Colorado Coalition for Aging Research.
   Learn to navigate the responsibilities of middle and late stage caregiv
 ing.  Topics include:\n\n 	Building foundations of caregiving\n 	Supporti
 ng independence\n 	Communicating effectively\n 	Responding to dementia-rel
 ated behaviors\n 	Exploring care and support services\n\nThe program will 
 be offered via zoom.  Registration is required.  Please visit alz.org or
  call 1-800-272-3900 to register.  The West Custer County Library offers 
 Telehealth Kits for checkout if you need a laptop and mobile hotspot to en
 roll in the class.  A Wi-Fi enabled Privacy Booth is also available at th
 e library on a reservation basis.  Please call the library at (719) 783-9
 138 for more information on the Telehealth Kits and to reserve the Privacy
  Booth.
ATTACH;FMTTYPE=image/jpeg:https://www.westcusterlibrary.org/wp-content/upl
 oads/2025/04/86049522-b046-477f-883c-5cba41aa74cf-1.png
CATEGORIES:Adults
END:VEVENT
BEGIN:VTIMEZONE
TZID:America/Denver
X-LIC-LOCATION:America/Denver
BEGIN:DAYLIGHT
DTSTART:20250309T030000
TZOFFSETFROM:-0700
TZOFFSETTO:-0600
TZNAME:MDT
END:DAYLIGHT
END:VTIMEZONE
END:VCALENDAR