BEGIN:VCALENDAR
VERSION:2.0
PRODID:-//wp-events-plugin.com//7.2.3.1//EN
TZID:America/Denver
X-WR-TIMEZONE:America/Denver
BEGIN:VEVENT
UID:2561@westcusterlibrary.org
DTSTART;TZID=America/Denver:20251125T120000
DTEND;TZID=America/Denver:20251125T130000
DTSTAMP:20251124T162157Z
URL:https://www.westcusterlibrary.org/events/the-art-of-appreciation-or-th
 e-science-of-thanks/
SUMMARY:THE  ART OF APPRECIATION OR THE SCIENCE OF THANKS
DESCRIPTION:Learn how a "gratitude mindset" significantly impacts mental he
 alth and overall well-being by fostering positive emotions\, reducing nega
 tive psychological states\, and promoting healthier behaviors.  This conn
 ection is supported by extensive research demonstrating that practicing gr
 atitude can lead to a range of benefits\, including increased happiness\, 
 improved emotional resilience\, and stronger social bonds.
ATTACH;FMTTYPE=image/jpeg:https://www.westcusterlibrary.org/wp-content/upl
 oads/2025/09/050beec9-acb1-41d9-9df9-b74410b9ca27-1.png
CATEGORIES:Adults
LOCATION:West Custer County Library Community Room\, 209 Main St\, Westclif
 fe\, CO\, United States
GEO:38.136419;-105.467999
X-APPLE-STRUCTURED-LOCATION;VALUE=URI;X-ADDRESS=209 Main St\, Westcliffe\, 
 CO\, United States;X-APPLE-RADIUS=100;X-TITLE=West Custer County Library C
 ommunity Room:geo:38.136419,-105.467999
END:VEVENT
BEGIN:VTIMEZONE
TZID:America/Denver
X-LIC-LOCATION:America/Denver
BEGIN:STANDARD
DTSTART:20251102T010000
TZOFFSETFROM:-0600
TZOFFSETTO:-0700
TZNAME:MST
END:STANDARD
END:VTIMEZONE
END:VCALENDAR