BEGIN:VCALENDAR
VERSION:2.0
PRODID:-//wp-events-plugin.com//7.2.3.1//EN
TZID:America/Denver
X-WR-TIMEZONE:America/Denver
BEGIN:VEVENT
UID:1913@westcusterlibrary.org
DTSTART;TZID=America/Denver:20250327T140000
DTEND;TZID=America/Denver:20250327T160000
DTSTAMP:20250123T220242Z
URL:https://www.westcusterlibrary.org/events/teen-creative-writing-worksho
 p/
SUMMARY:TEEN CREATIVE WRITING WORKSHOP
DESCRIPTION:Join our very own Nicole Parson's for a fun\, creative experien
 ce. \nLearn steps to put narrative story ideas (Fictional) to the page. \n
 \nSnacks will be provided and everybody will leave with a free journal to 
 get those ideas to the written page. \n\n*Mrs. Kusturin\, from CUSTER COUN
 TY SCHOOL\, will be giving extra credit to her students who attend. 
ATTACH;FMTTYPE=image/jpeg:https://www.westcusterlibrary.org/wp-content/upl
 oads/2025/01/teenwriting.png
CATEGORIES:High School Students,Teens (ages 11-18)
LOCATION:West Custer County Library Community Room\, 209 Main St\, Westclif
 fe\, CO\, United States
GEO:38.136419;-105.467999
X-APPLE-STRUCTURED-LOCATION;VALUE=URI;X-ADDRESS=209 Main St\, Westcliffe\, 
 CO\, United States;X-APPLE-RADIUS=100;X-TITLE=West Custer County Library C
 ommunity Room:geo:38.136419,-105.467999
END:VEVENT
BEGIN:VTIMEZONE
TZID:America/Denver
X-LIC-LOCATION:America/Denver
BEGIN:DAYLIGHT
DTSTART:20250309T030000
TZOFFSETFROM:-0700
TZOFFSETTO:-0600
TZNAME:MDT
END:DAYLIGHT
END:VTIMEZONE
END:VCALENDAR