BEGIN:VCALENDAR
VERSION:2.0
PRODID:-//wp-events-plugin.com//7.2.3.1//EN
TZID:America/Denver
X-WR-TIMEZONE:America/Denver
BEGIN:VEVENT
UID:2082@westcusterlibrary.org
DTSTART;TZID=America/Denver:20250715T130000
DTEND;TZID=America/Denver:20250716T150000
DTSTAMP:20250512T144822Z
URL:https://www.westcusterlibrary.org/events/teen-art-program-sculpture-pa
 inting/
SUMMARY:TEEN ART PROGRAM: SCULPTURE & PAINTING
DESCRIPTION:REQUIRED FOR PARTICIPATION\n\nDownload the Sangre Art Guild wai
 ver for participation. Fill out the WCCLD Summer Reading Program registrat
 ion form to participate in program.\n\nThe Sculpture &amp\; Painting Works
 hop will be held at 3rd Street Gallery.
ATTACH;FMTTYPE=image/jpeg:https://www.westcusterlibrary.org/wp-content/upl
 oads/2025/04/TAPsculpture2.png
CATEGORIES:High School Students,Teens (ages 13-18)
END:VEVENT
BEGIN:VTIMEZONE
TZID:America/Denver
X-LIC-LOCATION:America/Denver
BEGIN:DAYLIGHT
DTSTART:20250309T030000
TZOFFSETFROM:-0700
TZOFFSETTO:-0600
TZNAME:MDT
END:DAYLIGHT
END:VTIMEZONE
END:VCALENDAR