BEGIN:VCALENDAR
VERSION:2.0
PRODID:-//wp-events-plugin.com//7.2.3.1//EN
TZID:America/Denver
X-WR-TIMEZONE:America/Denver
BEGIN:VEVENT
UID:2085@westcusterlibrary.org
DTSTART;TZID=America/Denver:20250729T130000
DTEND;TZID=America/Denver:20250729T150000
DTSTAMP:20250512T145044Z
URL:https://www.westcusterlibrary.org/events/teen-art-program-photo-basics
 -editing/
SUMMARY:TEEN ART PROGRAM: PHOTO BASICS & EDITING
DESCRIPTION:REQUIRED FOR PARTICIPATION\n\nDownload the Sangre Art Guild wai
 ver for participation. Fill out the WCCLD Summer Reading Program registrat
 ion form for participation.\n\n&nbsp\;\n\n&nbsp\;
ATTACH;FMTTYPE=image/jpeg:https://www.westcusterlibrary.org/wp-content/upl
 oads/2025/04/TAPphotoedit.png
CATEGORIES:High School Students,Teens (ages 13-18)
END:VEVENT
BEGIN:VTIMEZONE
TZID:America/Denver
X-LIC-LOCATION:America/Denver
BEGIN:DAYLIGHT
DTSTART:20250309T030000
TZOFFSETFROM:-0700
TZOFFSETTO:-0600
TZNAME:MDT
END:DAYLIGHT
END:VTIMEZONE
END:VCALENDAR