BEGIN:VCALENDAR
VERSION:2.0
PRODID:-//wp-events-plugin.com//7.2.3.1//EN
TZID:America/Denver
X-WR-TIMEZONE:America/Denver
BEGIN:VEVENT
UID:2081@westcusterlibrary.org
DTSTART;TZID=America/Denver:20250625T130000
DTEND;TZID=America/Denver:20250625T150000
DTSTAMP:20250618T162245Z
URL:https://www.westcusterlibrary.org/events/teen-art-program-pastel-paint
 ing/
SUMMARY:TEEN ART PROGRAM: PASTEL PAINTING
DESCRIPTION:For teens 13-19\, 2025 Summer Reading presents: Pastel Painting
  with Instructor Tim\nWednesday June 25th\, 1:00pm - 3:00pm at 3rd Street 
 Gallery\n\nLimited spots are available so be sure to sign up ahead of time
 .\n\nBrought to you in part by Sangres Art Guild and High Mountain Hay Fev
 er Children's Health Fund.\n\nREQUIRED FOR PARTICIPATION\n\nDownload the r
 equired Sangre Art Guild waiver for participation. Fill out the required W
 CCLD Summer Reading Program registration form for participation.\n\nThe Pa
 stel Painting workshop will be held at the 3rd Street Gallery.
ATTACH;FMTTYPE=image/jpeg:https://www.westcusterlibrary.org/wp-content/upl
 oads/2025/04/TAPpastel2.png
CATEGORIES:High School Students,Teens (ages 13-18)
END:VEVENT
BEGIN:VTIMEZONE
TZID:America/Denver
X-LIC-LOCATION:America/Denver
BEGIN:DAYLIGHT
DTSTART:20250309T030000
TZOFFSETFROM:-0700
TZOFFSETTO:-0600
TZNAME:MDT
END:DAYLIGHT
END:VTIMEZONE
END:VCALENDAR