BEGIN:VCALENDAR
VERSION:2.0
PRODID:-//wp-events-plugin.com//7.2.3.1//EN
TZID:America/Denver
X-WR-TIMEZONE:America/Denver
BEGIN:VEVENT
UID:2079@westcusterlibrary.org
DTSTART;TZID=America/Denver:20250611T130000
DTEND;TZID=America/Denver:20250611T150000
DTSTAMP:20250512T144142Z
URL:https://www.westcusterlibrary.org/events/teen-art-program-colorful-man
 dala-art/
SUMMARY:TEEN ART PROGRAM: COLORFUL MANDALA ART
DESCRIPTION:REQUIRED FOR PARTICIPATION\n\nDownload the required Sangre Art 
 Guild waiver for participation.  Fill out the required WCCLD Summer Readi
 ng Program registration form for participation.\n\nThe Colorful Mandala Wo
 rkshop will be held at the 3rd Street Gallery.
ATTACH;FMTTYPE=image/jpeg:https://www.westcusterlibrary.org/wp-content/upl
 oads/2025/04/Scanned-from-a-Xerox-Multifunction-Printer-2.jpg
CATEGORIES:High School Students,Teens (ages 13-18)
END:VEVENT
BEGIN:VTIMEZONE
TZID:America/Denver
X-LIC-LOCATION:America/Denver
BEGIN:DAYLIGHT
DTSTART:20250309T030000
TZOFFSETFROM:-0700
TZOFFSETTO:-0600
TZNAME:MDT
END:DAYLIGHT
END:VTIMEZONE
END:VCALENDAR