BEGIN:VCALENDAR
VERSION:2.0
PRODID:-//wp-events-plugin.com//7.2.3.1//EN
TZID:America/Denver
X-WR-TIMEZONE:America/Denver
BEGIN:VEVENT
UID:2087@westcusterlibrary.org
DTSTART;TZID=America/Denver:20250617T130000
DTEND;TZID=America/Denver:20250618T150000
DTSTAMP:20250512T144032Z
URL:https://www.westcusterlibrary.org/events/teen-art-program-clay-ocarina
 -make-paint/
SUMMARY:TEEN ART PROGRAM: CLAY OCARINA-MAKE & PAINT
DESCRIPTION:REQUIRED FOR PARTICIPATION\n\nDownload the Sangre Art Guild wai
 ver for participation. Fill out the WCCLD Summer Reading Program registrat
 ion form to participate.\n\nThe Clay Ocarina Workshop will be held at the 
 3rd Street Gallery.
ATTACH;FMTTYPE=image/jpeg:https://www.westcusterlibrary.org/wp-content/upl
 oads/2025/04/TAPocarina.png
CATEGORIES:High School Students,Teens (ages 13-18)
END:VEVENT
BEGIN:VTIMEZONE
TZID:America/Denver
X-LIC-LOCATION:America/Denver
BEGIN:DAYLIGHT
DTSTART:20250309T030000
TZOFFSETFROM:-0700
TZOFFSETTO:-0600
TZNAME:MDT
END:DAYLIGHT
END:VTIMEZONE
END:VCALENDAR