BEGIN:VCALENDAR
VERSION:2.0
PRODID:-//wp-events-plugin.com//7.2.3.1//EN
TZID:America/Denver
X-WR-TIMEZONE:America/Denver
BEGIN:VEVENT
UID:1972@westcusterlibrary.org
DTSTART;TZID=America/Denver:20250418T100000
DTEND;TZID=America/Denver:20250418T143000
DTSTAMP:20250418T134907Z
URL:https://www.westcusterlibrary.org/events/tax2go/
SUMMARY:TAX2GO
DESCRIPTION:TAX2GO will offer the traditional services of a taxpayer servic
 e center.  Walk-in customers will be accepted. Debit and credit cards as 
 well as crypto currency through PayPal are accepted\; no cash or checks.\n
 \nServices include:\n\n 	Applying for a new sales tax or wage withholding 
 license\;\n 	Help with Property Tax\, Rent\, Heat Credit (PTC) rebate appl
 ications\;\n 	Information on tax credits\, including the Family Affordabil
 ity Tax Credit\, the Colorado Earned Income Tax Credit and the Income-Qual
 ified Senior Housing Income Tax Credit\;\n 	Tracking refunds\;\n 	Balance 
 due inquiries\; and more.\n
ATTACH;FMTTYPE=image/jpeg:https://www.westcusterlibrary.org/wp-content/upl
 oads/2025/03/19299541-ab0f-49e2-831f-9e6661f7cfa3.png
CATEGORIES:Adults
LOCATION:West Custer County Library Community Room\, 209 Main St\, Westclif
 fe\, CO\, United States
GEO:38.136419;-105.467999
X-APPLE-STRUCTURED-LOCATION;VALUE=URI;X-ADDRESS=209 Main St\, Westcliffe\, 
 CO\, United States;X-APPLE-RADIUS=100;X-TITLE=West Custer County Library C
 ommunity Room:geo:38.136419,-105.467999
END:VEVENT
BEGIN:VTIMEZONE
TZID:America/Denver
X-LIC-LOCATION:America/Denver
BEGIN:DAYLIGHT
DTSTART:20250309T030000
TZOFFSETFROM:-0700
TZOFFSETTO:-0600
TZNAME:MDT
END:DAYLIGHT
END:VTIMEZONE
END:VCALENDAR