BEGIN:VCALENDAR
VERSION:2.0
PRODID:-//wp-events-plugin.com//7.2.3.1//EN
TZID:America/Denver
X-WR-TIMEZONE:America/Denver
BEGIN:VEVENT
UID:1809@westcusterlibrary.org
DTSTART;TZID=America/Denver:20250117T100000
DTEND;TZID=America/Denver:20250117T143000
DTSTAMP:20250107T235657Z
URL:https://www.westcusterlibrary.org/events/tax2go-at-the-west-custer-cou
 nty-library/
SUMMARY:TAX2GO at the West Custer County Library
DESCRIPTION:TAX2GO will offer the traditional services of a Taxpayer Servic
 e Center at the West Custer County Library.\n\nWalk-in Customers will be a
 ccepted.  Debit &amp\; credit cards as well as cryptocurrency through Pay
 Pal are accepted\; no cash or checks accepted.\n\nServices include:\n\n\nA
 pplying for a new sales tax or wage withholding license\;\n\n\n\nHelp with
  Property Tax\, Rent\, Heat Credit (PTC) rebate applications\;\n\n\n\nInfo
 rmation on tax credits\, including the Family Affordability Tax Credit\, t
 he Colorado Earned Income Tax Credit and the Income-Qualified Senior Housi
 ng Income Tax Credit\;\n\n\n\nTracking refunds\;\n\n\nBalance due inquirie
 s\; and more.\n\n\n
ATTACH;FMTTYPE=image/jpeg:https://www.westcusterlibrary.org/wp-content/upl
 oads/2025/01/e50df0bb-8c6e-4f5b-8997-04baad1e9fbf.png
CATEGORIES:Adults
LOCATION:West Custer County Library Community Room\, 209 Main St\, Westclif
 fe\, CO\, United States
GEO:38.136419;-105.467999
X-APPLE-STRUCTURED-LOCATION;VALUE=URI;X-ADDRESS=209 Main St\, Westcliffe\, 
 CO\, United States;X-APPLE-RADIUS=100;X-TITLE=West Custer County Library C
 ommunity Room:geo:38.136419,-105.467999
END:VEVENT
BEGIN:VTIMEZONE
TZID:America/Denver
X-LIC-LOCATION:America/Denver
BEGIN:STANDARD
DTSTART:20241103T010000
TZOFFSETFROM:-0600
TZOFFSETTO:-0700
TZNAME:MST
END:STANDARD
END:VTIMEZONE
END:VCALENDAR