BEGIN:VCALENDAR
VERSION:2.0
PRODID:-//wp-events-plugin.com//7.2.3.1//EN
TZID:America/Denver
X-WR-TIMEZONE:America/Denver
BEGIN:VEVENT
UID:1810@westcusterlibrary.org
DTSTART;TZID=America/Denver:20250221T100000
DTEND;TZID=America/Denver:20250221T143000
DTSTAMP:20250130T211711Z
URL:https://www.westcusterlibrary.org/events/tax2go-at-the-west-custer-cou
 nty-library-2/
SUMMARY:The February 21st TAX2GO will be held at the Kirkpatrick Bank Confe
 rence Room\, 8 Bassick Place\, Westcliffe\, CO 81252
DESCRIPTION:The February 21st TAX2GO will be held at the Kirkpatrick Bank C
 onference Room from 10 a.m. till 2:30 p.m.\, 8 Bassick Place\, Westcliffe\
 , Colorado 81252.  TAX2GO will offer the traditional services of a Taxpay
 er Service Center.\n\nWalk-in Customers will be accepted.  Debit &amp\; c
 redit cards as well as cryptocurrency through PayPal are accepted\; no cas
 h or checks accepted.\n\nServices include:\n\n\nApplying for a new sales t
 ax or wage withholding license\;\n\n\n\nHelp with Property Tax\, Rent\, He
 at Credit (PTC) rebate applications\;\n\n\n\nInformation on tax credits\, 
 including the Family Affordability Tax Credit\, the Colorado Earned Income
  Tax Credit and the Income-Qualified Senior Housing Income Tax Credit\;\n\
 n\n\nTracking refunds\;\n\n\nBalance due inquiries\; and more.\n\n\n
ATTACH;FMTTYPE=image/jpeg:https://www.westcusterlibrary.org/wp-content/upl
 oads/2025/01/e50df0bb-8c6e-4f5b-8997-04baad1e9fbf.png
CATEGORIES:Adults
LOCATION:West Custer County Library Community Room\, 209 Main St\, Westclif
 fe\, CO\, United States
GEO:38.136419;-105.467999
X-APPLE-STRUCTURED-LOCATION;VALUE=URI;X-ADDRESS=209 Main St\, Westcliffe\, 
 CO\, United States;X-APPLE-RADIUS=100;X-TITLE=West Custer County Library C
 ommunity Room:geo:38.136419,-105.467999
END:VEVENT
BEGIN:VTIMEZONE
TZID:America/Denver
X-LIC-LOCATION:America/Denver
BEGIN:STANDARD
DTSTART:20241103T010000
TZOFFSETFROM:-0600
TZOFFSETTO:-0700
TZNAME:MST
END:STANDARD
END:VTIMEZONE
END:VCALENDAR