BEGIN:VCALENDAR
VERSION:2.0
PRODID:-//wp-events-plugin.com//7.2.3.1//EN
TZID:America/Denver
X-WR-TIMEZONE:America/Denver
BEGIN:VEVENT
UID:2670@westcusterlibrary.org
DTSTART;TZID=America/Denver:20260303T100000
DTEND;TZID=America/Denver:20260303T113000
DTSTAMP:20251124T162133Z
URL:https://www.westcusterlibrary.org/events/take-charge-of-your-health-5-
 part-wellness-series-5/
SUMMARY:Take Charge of your Health 5 - Part Wellness Series
DESCRIPTION:Retired Chiropractor Dr. Ed Hunt will teach a 5-part wellness s
 eries sponsored by the Custer County Wellness Council and the West Custer 
 County Library.  The goal for the series is for attendees to learn what t
 hey can do take charge of their health and maintain mobility.  The 5th se
 ssion will be an overview.  Dr. Hunt will also provide take-home suggesti
 ons that you can put into practice at home to take charge of your own heal
 th. Registration is recommended but not required.
ATTACH;FMTTYPE=image/jpeg:https://www.westcusterlibrary.org/wp-content/upl
 oads/2025/11/fded70ac-2248-42a6-b5dc-0c70a00b792a-1.png
CATEGORIES:Adults
END:VEVENT
BEGIN:VTIMEZONE
TZID:America/Denver
X-LIC-LOCATION:America/Denver
BEGIN:STANDARD
DTSTART:20251102T010000
TZOFFSETFROM:-0600
TZOFFSETTO:-0700
TZNAME:MST
END:STANDARD
END:VTIMEZONE
END:VCALENDAR