BEGIN:VCALENDAR
VERSION:2.0
PRODID:-//wp-events-plugin.com//7.2.3.1//EN
TZID:America/Denver
X-WR-TIMEZONE:America/Denver
BEGIN:VEVENT
UID:2668@westcusterlibrary.org
DTSTART;TZID=America/Denver:20260203T100000
DTEND;TZID=America/Denver:20260203T113000
DTSTAMP:20251124T162050Z
URL:https://www.westcusterlibrary.org/events/take-charge-of-your-health-5-
 part-wellness-series-3/
SUMMARY:Take Charge of Your Health 5-Part Wellness Series
DESCRIPTION:Retired Chiropractor Dr. Ed Hunt is teaching a wellness series 
 sponsored by the Custer County Wellness Council and the West Custer County
  Library.  The goal for the series is for attendees to learn what they ca
 n do take charge of their health and maintain mobility.  This session wil
 l cover the Nervous System.  The nervous system is incredibly complex.  
 Think of it as a miraculous electrical wiring system that controls everyth
 ing including: the brain\, spinal cord\, nerves\, and neurons. You'll lear
 n how that system changes for the worse or better\, and how you can help.
   Registration is recommended but not required.
ATTACH;FMTTYPE=image/jpeg:https://www.westcusterlibrary.org/wp-content/upl
 oads/2025/11/fded70ac-2248-42a6-b5dc-0c70a00b792a-1.png
CATEGORIES:Adults
LOCATION:West Custer County Library Community Room\, 209 Main St\, Westclif
 fe\, CO\, United States
GEO:38.136419;-105.467999
X-APPLE-STRUCTURED-LOCATION;VALUE=URI;X-ADDRESS=209 Main St\, Westcliffe\, 
 CO\, United States;X-APPLE-RADIUS=100;X-TITLE=West Custer County Library C
 ommunity Room:geo:38.136419,-105.467999
END:VEVENT
BEGIN:VTIMEZONE
TZID:America/Denver
X-LIC-LOCATION:America/Denver
BEGIN:STANDARD
DTSTART:20251102T010000
TZOFFSETFROM:-0600
TZOFFSETTO:-0700
TZNAME:MST
END:STANDARD
END:VTIMEZONE
END:VCALENDAR