BEGIN:VCALENDAR
VERSION:2.0
PRODID:-//wp-events-plugin.com//7.2.3.1//EN
TZID:America/Denver
X-WR-TIMEZONE:America/Denver
BEGIN:VEVENT
UID:2667@westcusterlibrary.org
DTSTART;TZID=America/Denver:20260120T100000
DTEND;TZID=America/Denver:20260120T113000
DTSTAMP:20260116T180301Z
URL:https://www.westcusterlibrary.org/events/take-charge-of-your-health-5-
 part-wellness-series-2/
SUMMARY:Take Charge of Your Health 5-Part Wellness Series
DESCRIPTION:Retired Chiropractor Dr. Ed Hunt will teach a wellness series s
 ponsored by the Custer County Wellness Council and the West Custer County 
 Library.  The goal of the series is for attendees to learn what they can 
 do take charge of their health and maintain mobility as we age.  Session 
 2 will focus on the Muscles and Skeletal System of the Human Body.  Dr. H
 unt will cover: a combination of anatomy and physiology\, the bones\, musc
 les\, tendons\, and ligaments.  He'll teach why they work when they do\, 
 and why that changes from improper use\, age and injuries.  Registration 
 is recommended but not required.
ATTACH;FMTTYPE=image/jpeg:https://www.westcusterlibrary.org/wp-content/upl
 oads/2025/11/fded70ac-2248-42a6-b5dc-0c70a00b792a-1.png
CATEGORIES:Adults
LOCATION:West Custer County Library Community Room\, 209 Main St\, Westclif
 fe\, CO\, United States
GEO:38.136419;-105.467999
X-APPLE-STRUCTURED-LOCATION;VALUE=URI;X-ADDRESS=209 Main St\, Westcliffe\, 
 CO\, United States;X-APPLE-RADIUS=100;X-TITLE=West Custer County Library C
 ommunity Room:geo:38.136419,-105.467999
END:VEVENT
BEGIN:VTIMEZONE
TZID:America/Denver
X-LIC-LOCATION:America/Denver
BEGIN:STANDARD
DTSTART:20251102T010000
TZOFFSETFROM:-0600
TZOFFSETTO:-0700
TZNAME:MST
END:STANDARD
END:VTIMEZONE
END:VCALENDAR