BEGIN:VCALENDAR
VERSION:2.0
PRODID:-//wp-events-plugin.com//7.2.3.1//EN
TZID:America/Denver
X-WR-TIMEZONE:America/Denver
BEGIN:VEVENT
UID:2109@westcusterlibrary.org
DTSTART;TZID=America/Denver:20250722T100000
DTEND;TZID=America/Denver:20250722T110000
DTSTAMP:20250618T160730Z
URL:https://www.westcusterlibrary.org/events/take-a-ramble-on-the-rainbow-
 trail-with-presenter-john-van-doren/
SUMMARY:Take a "Ramble" on the Rainbow Trail with Presenter John Van Doren
DESCRIPTION:Come learn about the Rainbow Trail.\nDating from 1912 and curre
 ntly 113-miles long\, the Rainbow Trail is one of oldest long-distance thr
 u-hikes in the country.  It was originally part of a system of Sangre de
  Cristo abandoned mining roads and trails developed by the newly formed U.
 S. Forest Service to provide access to cattle and sheep grazing allotments
 .\nBy 1930 it was completed to the Bear Creek Trailhead near Salida. Durin
 g the 80’s it was extended beyond the Sangre’s into the Sawatch Mounta
 in Range and now connects with the Colorado and Continental Divide Trails.
  It currently spans five Colorado counties and three Ranger Districts.\nIt
  has become a sought after day and thru-hiker outdoor recreation destinati
 on\, and combined with the Colorado Trail it forms a majestic 325-mile Sou
 thern Colorado\, East-West thru-hike from the Town of Westcliffe to City o
 f Durango.
ATTACH;FMTTYPE=image/jpeg:https://www.westcusterlibrary.org/wp-content/upl
 oads/2025/05/7de50bcf-3f67-4cbe-bb04-8ab60ae54767-1.png
CATEGORIES:Adults
LOCATION:West Custer County Library Community Room\, 209 Main St\, Westclif
 fe\, CO\, United States
GEO:38.136419;-105.467999
X-APPLE-STRUCTURED-LOCATION;VALUE=URI;X-ADDRESS=209 Main St\, Westcliffe\, 
 CO\, United States;X-APPLE-RADIUS=100;X-TITLE=West Custer County Library C
 ommunity Room:geo:38.136419,-105.467999
END:VEVENT
BEGIN:VTIMEZONE
TZID:America/Denver
X-LIC-LOCATION:America/Denver
BEGIN:DAYLIGHT
DTSTART:20250309T030000
TZOFFSETFROM:-0700
TZOFFSETTO:-0600
TZNAME:MDT
END:DAYLIGHT
END:VTIMEZONE
END:VCALENDAR