BEGIN:VCALENDAR
VERSION:2.0
PRODID:-//wp-events-plugin.com//7.2.3.1//EN
TZID:America/Denver
X-WR-TIMEZONE:America/Denver
BEGIN:VEVENT
UID:2101@westcusterlibrary.org
DTSTART;TZID=America/Denver:20250624T160000
DTEND;TZID=America/Denver:20250624T170000
DTSTAMP:20250620T220218Z
URL:https://www.westcusterlibrary.org/events/summer-reading-program-pettin
 g-zoo/
SUMMARY:Summer Reading Program: Petting Zoo
DESCRIPTION:Join us for a fun &amp\; interactive animal experience with the
  Custer County 4-H Hermits.\n\nCome and see: Llama\, goats\, bunnies\, kit
 tens\, snakes and many more fun animals.\n\nWe hope to see you there!!
ATTACH;FMTTYPE=image/jpeg:https://www.westcusterlibrary.org/wp-content/upl
 oads/2025/05/pettingzooupdate2.png
CATEGORIES:Age 9-14,Family,High School Students,Infant to Pre-K (ages
 0-5),Kids (ages 5-10),Mother &amp; Baby,Teens (ages 11-18),Teens (ages
 13-18)
LOCATION:Fairgrounds\, 90 County Rd 241\, Westcliffe \, CO\, United States
GEO:38.140982;-105.467633
X-APPLE-STRUCTURED-LOCATION;VALUE=URI;X-ADDRESS=90 County Rd 241\, Westclif
 fe \, CO\, United States;X-APPLE-RADIUS=100;X-TITLE=Fairgrounds:geo:38.140
 982,-105.467633
END:VEVENT
BEGIN:VTIMEZONE
TZID:America/Denver
X-LIC-LOCATION:America/Denver
BEGIN:DAYLIGHT
DTSTART:20250309T030000
TZOFFSETFROM:-0700
TZOFFSETTO:-0600
TZNAME:MDT
END:DAYLIGHT
END:VTIMEZONE
END:VCALENDAR