BEGIN:VCALENDAR
VERSION:2.0
PRODID:-//wp-events-plugin.com//7.2.3.1//EN
TZID:America/Denver
X-WR-TIMEZONE:America/Denver
BEGIN:VEVENT
UID:2102@westcusterlibrary.org
DTSTART;TZID=America/Denver:20250711T100000
DTEND;TZID=America/Denver:20250711T130000
DTSTAMP:20250708T212552Z
URL:https://www.westcusterlibrary.org/events/summer-reading-program-astro-
 camp/
SUMMARY:Summer Reading Program: ASTRO CAMP
DESCRIPTION:Join for an experience that is OUT OF THIS WORLD!!!\n\nThe West
  Custer County Library and Education Legacy Fund is partnering together to
  bring you a NASA Astro Camp Collaborative Program to bring K-12th grade S
 TEM-based Learning to Custer County students.\n\nThis event will focus on 
 age-appropriate experiments and projects for kids to enjoy. We will have S
 teve Janssen from the Pueblo Space Museum showcasing some models\, astrona
 ut gloves (to try on)\, and some freebies.\n\nAlso\, come out and see a So
 lar viewing experience with Chuck Jagow from Dark Skies.\n\nSNACKS &amp\; 
 DRINKS provided!!\n\nWe hope to see you there.
ATTACH;FMTTYPE=image/jpeg:https://www.westcusterlibrary.org/wp-content/upl
 oads/2025/05/SRPAstrocamp2.png
CATEGORIES:Age 9-14,Family,High School Students,Infant to Pre-K (ages
 0-5),Kids (ages 5-10),Teens (ages 11-18),Teens (ages 13-18)
LOCATION:Hermit Park\, 4th St and Hermit Road\, Westcliffe\, Colorado\, Uni
 ted States
GEO:38.130598;-105.466515
X-APPLE-STRUCTURED-LOCATION;VALUE=URI;X-ADDRESS=4th St and Hermit Road\, We
 stcliffe\, Colorado\, United States;X-APPLE-RADIUS=100;X-TITLE=Hermit Park
 :geo:38.130598,-105.466515
END:VEVENT
BEGIN:VTIMEZONE
TZID:America/Denver
X-LIC-LOCATION:America/Denver
BEGIN:DAYLIGHT
DTSTART:20250309T030000
TZOFFSETFROM:-0700
TZOFFSETTO:-0600
TZNAME:MDT
END:DAYLIGHT
END:VTIMEZONE
END:VCALENDAR