BEGIN:VCALENDAR
VERSION:2.0
PRODID:-//wp-events-plugin.com//7.2.3.1//EN
TZID:America/Denver
X-WR-TIMEZONE:America/Denver
BEGIN:VEVENT
UID:2098@westcusterlibrary.org
DTSTART;TZID=America/Denver:20250627T100000
DTEND;TZID=America/Denver:20250627T120000
DTSTAMP:20250620T220944Z
URL:https://www.westcusterlibrary.org/events/summer-reading-program-archer
 y-with-justin-krall/
SUMMARY:Summer Reading Program: Archery with Justin Krall
DESCRIPTION:Join us for an introduction to Archery with Colorado Parks and 
 Wildlife ranger Justin Krall.\n\nKids will learn the safety and basics of 
 Archery. We hope to see you there!
ATTACH;FMTTYPE=image/jpeg:https://www.westcusterlibrary.org/wp-content/upl
 oads/2025/05/archeryupdate.png
CATEGORIES:Age 9-14,High School Students,Teens (ages 11-18),Teens (ages
 13-18)
LOCATION:Hermit Park\, 4th St and Hermit Road\, Westcliffe\, Colorado\, Uni
 ted States
GEO:38.130598;-105.466515
X-APPLE-STRUCTURED-LOCATION;VALUE=URI;X-ADDRESS=4th St and Hermit Road\, We
 stcliffe\, Colorado\, United States;X-APPLE-RADIUS=100;X-TITLE=Hermit Park
 :geo:38.130598,-105.466515
END:VEVENT
BEGIN:VTIMEZONE
TZID:America/Denver
X-LIC-LOCATION:America/Denver
BEGIN:DAYLIGHT
DTSTART:20250309T030000
TZOFFSETFROM:-0700
TZOFFSETTO:-0600
TZNAME:MDT
END:DAYLIGHT
END:VTIMEZONE
END:VCALENDAR