BEGIN:VCALENDAR
VERSION:2.0
PRODID:-//wp-events-plugin.com//7.2.3.1//EN
TZID:America/Denver
X-WR-TIMEZONE:America/Denver
BEGIN:VEVENT
UID:2089@westcusterlibrary.org
DTSTART;TZID=America/Denver:20250513T100000
DTEND;TZID=America/Denver:20250513T173000
DTSTAMP:20250430T235509Z
URL:https://www.westcusterlibrary.org/events/summer-reading-pre-registrati
 on-day/
SUMMARY:SUMMER READING Pre-Registration Day
DESCRIPTION:
ATTACH;FMTTYPE=image/jpeg:https://www.westcusterlibrary.org/wp-content/upl
 oads/2025/04/SRPpreregistration.png
CATEGORIES:Age 9-14,Family,High School Students,Infant to Pre-K (ages
 0-5),Kids (ages 5-10),Mother &amp; Baby,Teens (ages 11-18)
LOCATION:West Custer Library\, 209 Main Street\, Westcliffe\, Colorado\, Un
 ited States
GEO:38.136182;-105.468042
X-APPLE-STRUCTURED-LOCATION;VALUE=URI;X-ADDRESS=209 Main Street\, Westcliff
 e\, Colorado\, United States;X-APPLE-RADIUS=100;X-TITLE=West Custer Librar
 y:geo:38.136182,-105.468042
END:VEVENT
BEGIN:VTIMEZONE
TZID:America/Denver
X-LIC-LOCATION:America/Denver
BEGIN:DAYLIGHT
DTSTART:20250309T030000
TZOFFSETFROM:-0700
TZOFFSETTO:-0600
TZNAME:MDT
END:DAYLIGHT
END:VTIMEZONE
END:VCALENDAR