BEGIN:VCALENDAR
VERSION:2.0
PRODID:-//wp-events-plugin.com//7.2.3.1//EN
TZID:America/Denver
X-WR-TIMEZONE:America/Denver
BEGIN:VEVENT
UID:2100@westcusterlibrary.org
DTSTART;TZID=America/Denver:20250618T100000
DTEND;TZID=America/Denver:20250618T110000
DTSTAMP:20250603T214747Z
URL:https://www.westcusterlibrary.org/events/summer-reading-event-natures-
 educators/
SUMMARY:Summer Reading Event: Nature's Educators
DESCRIPTION:Join us for a fun animal show from Nature's Educators that teac
 h about conservation and wildlife advocacy in Colorado.\n\nLocation will b
 e at Jess Price Memorial Park.
ATTACH;FMTTYPE=image/jpeg:https://www.westcusterlibrary.org/wp-content/upl
 oads/2025/05/SRPnatureseducators.png
CATEGORIES:Age 9-14,Family,High School Students,Infant to Pre-K (ages
 0-5),Kids (ages 5-10),Mother &amp; Baby,Teens (ages 11-18),Teens (ages
 13-18)
END:VEVENT
BEGIN:VTIMEZONE
TZID:America/Denver
X-LIC-LOCATION:America/Denver
BEGIN:DAYLIGHT
DTSTART:20250309T030000
TZOFFSETFROM:-0700
TZOFFSETTO:-0600
TZNAME:MDT
END:DAYLIGHT
END:VTIMEZONE
END:VCALENDAR