BEGIN:VCALENDAR
VERSION:2.0
PRODID:-//wp-events-plugin.com//7.2.3.1//EN
TZID:America/Denver
X-WR-TIMEZONE:America/Denver
BEGIN:VEVENT
UID:2110@westcusterlibrary.org
DTSTART;TZID=America/Denver:20250625T120000
DTEND;TZID=America/Denver:20250625T130000
DTSTAMP:20250603T224305Z
URL:https://www.westcusterlibrary.org/events/summer-reading-event-foam-par
 ty/
SUMMARY:Summer Reading Event: FOAM PARTY
DESCRIPTION:Wear your swimsuit and bring a towel for this FREE "foam-tastic
 " event!\n\nSnacks\, drinks &amp\; crafts will be provided. We hope to see
  you there!!
ATTACH;FMTTYPE=image/jpeg:https://www.westcusterlibrary.org/wp-content/upl
 oads/2025/06/rescheduled-SRP-foam-Party.png
CATEGORIES:Adults,Age 9-14,Family,High School Students,Infant to Pre-K
 (ages 0-5),Kids (ages 5-10),Kids (ages 6-16),Mother &amp; Baby,Senior
 Adults,Teens (ages 11-18),Teens (ages 13-18)
LOCATION:Hermit Park\, 4th St and Hermit Road\, Westcliffe\, Colorado\, Uni
 ted States
GEO:38.130598;-105.466515
X-APPLE-STRUCTURED-LOCATION;VALUE=URI;X-ADDRESS=4th St and Hermit Road\, We
 stcliffe\, Colorado\, United States;X-APPLE-RADIUS=100;X-TITLE=Hermit Park
 :geo:38.130598,-105.466515
END:VEVENT
BEGIN:VTIMEZONE
TZID:America/Denver
X-LIC-LOCATION:America/Denver
BEGIN:DAYLIGHT
DTSTART:20250309T030000
TZOFFSETFROM:-0700
TZOFFSETTO:-0600
TZNAME:MDT
END:DAYLIGHT
END:VTIMEZONE
END:VCALENDAR