BEGIN:VCALENDAR
VERSION:2.0
PRODID:-//wp-events-plugin.com//7.2.3.1//EN
TZID:America/Denver
X-WR-TIMEZONE:America/Denver
BEGIN:VEVENT
UID:2551@westcusterlibrary.org
DTSTART;TZID=America/Denver:20251008T100000
DTEND;TZID=America/Denver:20251008T110000
DTSTAMP:20250927T201305Z
URL:https://www.westcusterlibrary.org/events/storytime-together/
SUMMARY:STORYTIME TOGETHER
DESCRIPTION:*NEW* Join us for a short 10-15 minute Storytime with age appro
 priate books and activities for our littlest patrons.\n\nAFTERWARDS:\n\n 	
 Enjoy a healthy snack\n 	Create a fun craft that coincides with our theme/
 story\n 	FREE PLAY\n\n&nbsp\;
ATTACH;FMTTYPE=image/jpeg:https://www.westcusterlibrary.org/wp-content/upl
 oads/2025/09/NEWstorytimeflyer.png
CATEGORIES:Family,Infant to Pre-K (ages 0-5),Mother &amp; Baby
LOCATION:West Custer County Library Community Room\, 209 Main St\, Westclif
 fe\, CO\, United States
GEO:38.136419;-105.467999
X-APPLE-STRUCTURED-LOCATION;VALUE=URI;X-ADDRESS=209 Main St\, Westcliffe\, 
 CO\, United States;X-APPLE-RADIUS=100;X-TITLE=West Custer County Library C
 ommunity Room:geo:38.136419,-105.467999
END:VEVENT
BEGIN:VTIMEZONE
TZID:America/Denver
X-LIC-LOCATION:America/Denver
BEGIN:DAYLIGHT
DTSTART:20250309T030000
TZOFFSETFROM:-0700
TZOFFSETTO:-0600
TZNAME:MDT
END:DAYLIGHT
END:VTIMEZONE
END:VCALENDAR