BEGIN:VCALENDAR
VERSION:2.0
PRODID:-//wp-events-plugin.com//7.2.3.1//EN
TZID:America/Denver
X-WR-TIMEZONE:America/Denver
BEGIN:VEVENT
UID:2557@westcusterlibrary.org
DTSTART;TZID=America/Denver:20251126T100000
DTEND;TZID=America/Denver:20251126T110000
DTSTAMP:20251031T182059Z
URL:https://www.westcusterlibrary.org/events/storytime-together-7/
SUMMARY:*SPECIAL* STORYTIME TOGETHER
DESCRIPTION:Join us for a special storytime with Teddy\, the service dog-in
 -training. Ask questions with handler Joy Reis about Teddy and what he doe
 s.\n\nAFTERWARDS:\n\n 	Enjoy a healthy snack\n 	Create a fun craft that co
 incides with our theme/story\n 	FREE PLAY\n
ATTACH;FMTTYPE=image/jpeg:https://www.westcusterlibrary.org/wp-content/upl
 oads/2025/09/specialstorytimeservicedog.png
CATEGORIES:Family,Infant to Pre-K (ages 0-5),Kids (ages 5-10),Mother &amp;
 Baby
LOCATION:West Custer County Library Community Room\, 209 Main St\, Westclif
 fe\, CO\, United States
GEO:38.136419;-105.467999
X-APPLE-STRUCTURED-LOCATION;VALUE=URI;X-ADDRESS=209 Main St\, Westcliffe\, 
 CO\, United States;X-APPLE-RADIUS=100;X-TITLE=West Custer County Library C
 ommunity Room:geo:38.136419,-105.467999
END:VEVENT
BEGIN:VTIMEZONE
TZID:America/Denver
X-LIC-LOCATION:America/Denver
BEGIN:STANDARD
DTSTART:20251102T010000
TZOFFSETFROM:-0600
TZOFFSETTO:-0700
TZNAME:MST
END:STANDARD
END:VTIMEZONE
END:VCALENDAR