BEGIN:VCALENDAR
VERSION:2.0
PRODID:-//wp-events-plugin.com//7.2.3.1//EN
TZID:America/Denver
X-WR-TIMEZONE:America/Denver
BEGIN:VEVENT
UID:2771@westcusterlibrary.org
DTSTART;TZID=America/Denver:20260325T100000
DTEND;TZID=America/Denver:20260325T110000
DTSTAMP:20260221T203017Z
URL:https://www.westcusterlibrary.org/events/storytime-together-12/
SUMMARY:STORYTIME TOGETHER
DESCRIPTION:Michelle Doyle\, Clinical Nutritionist\, will be here to help p
 arents of picky eaters find strategies in picking out good foods.\n\nChild
 ren will get to make a healthy plate craft and snack on some good foods th
 at are sensory-friendly.
ATTACH;FMTTYPE=image/jpeg:https://www.westcusterlibrary.org/wp-content/upl
 oads/2025/12/Marchstorytime.png
CATEGORIES:Family,Infant to Pre-K (ages 0-5),Kids (ages 5-10)
LOCATION:West Custer County Library Community Room\, 209 Main St\, Westclif
 fe\, CO\, United States
GEO:38.136419;-105.467999
X-APPLE-STRUCTURED-LOCATION;VALUE=URI;X-ADDRESS=209 Main St\, Westcliffe\, 
 CO\, United States;X-APPLE-RADIUS=100;X-TITLE=West Custer County Library C
 ommunity Room:geo:38.136419,-105.467999
END:VEVENT
BEGIN:VTIMEZONE
TZID:America/Denver
X-LIC-LOCATION:America/Denver
BEGIN:DAYLIGHT
DTSTART:20260308T030000
TZOFFSETFROM:-0700
TZOFFSETTO:-0600
TZNAME:MDT
END:DAYLIGHT
END:VTIMEZONE
END:VCALENDAR