BEGIN:VCALENDAR
VERSION:2.0
PRODID:-//wp-events-plugin.com//7.2.3.1//EN
TZID:America/Denver
X-WR-TIMEZONE:America/Denver
BEGIN:VEVENT
UID:2769@westcusterlibrary.org
DTSTART;TZID=America/Denver:20260128T100000
DTEND;TZID=America/Denver:20260128T110000
DTSTAMP:20251231T185042Z
URL:https://www.westcusterlibrary.org/events/storytime-together-10/
SUMMARY:STORYTIME TOGETHER
DESCRIPTION:Join us every 4th Wednesday of the month for a NEW\, FUN\, &amp
 \; EXCITING experience for kids &amp\; families in Custer County.\n\nFREE 
 craft &amp\; Snack will be handed out at each Storytime.
ATTACH;FMTTYPE=image/jpeg:https://www.westcusterlibrary.org/wp-content/upl
 oads/2025/12/updatedstorytime26.png
CATEGORIES:Family,Infant to Pre-K (ages 0-5),Kids (ages 5-10)
LOCATION:West Custer County Library Community Room\, 209 Main St\, Westclif
 fe\, CO\, United States
GEO:38.136419;-105.467999
X-APPLE-STRUCTURED-LOCATION;VALUE=URI;X-ADDRESS=209 Main St\, Westcliffe\, 
 CO\, United States;X-APPLE-RADIUS=100;X-TITLE=West Custer County Library C
 ommunity Room:geo:38.136419,-105.467999
END:VEVENT
BEGIN:VTIMEZONE
TZID:America/Denver
X-LIC-LOCATION:America/Denver
BEGIN:STANDARD
DTSTART:20251102T010000
TZOFFSETFROM:-0600
TZOFFSETTO:-0700
TZNAME:MST
END:STANDARD
END:VTIMEZONE
END:VCALENDAR