BEGIN:VCALENDAR
VERSION:2.0
PRODID:-//wp-events-plugin.com//7.2.3.1//EN
TZID:America/Denver
X-WR-TIMEZONE:America/Denver
BEGIN:VEVENT
UID:1741@westcusterlibrary.org
DTSTART;TZID=America/Denver:20241204T100000
DTEND;TZID=America/Denver:20241204T110000
DTSTAMP:20241119T215503Z
URL:https://www.westcusterlibrary.org/events/storytime-4/
SUMMARY:STORYTIME
DESCRIPTION:We will be reading "The Itsy Bitsy Snowmen & Little Snowflake" 
 and making snowflakes & snowmen for craft-time afterwards.\n\nSnack will b
 e provided!! 
ATTACH;FMTTYPE=image/jpeg:https://www.westcusterlibrary.org/wp-content/upl
 oads/2024/11/december-storytime2.png
CATEGORIES:Infant to Pre-K (ages 0-5)
LOCATION:West Custer County Library Community Room\, 209 Main St\, Westclif
 fe\, CO\, United States
GEO:38.136419;-105.467999
X-APPLE-STRUCTURED-LOCATION;VALUE=URI;X-ADDRESS=209 Main St\, Westcliffe\, 
 CO\, United States;X-APPLE-RADIUS=100;X-TITLE=West Custer County Library C
 ommunity Room:geo:38.136419,-105.467999
END:VEVENT
BEGIN:VTIMEZONE
TZID:America/Denver
X-LIC-LOCATION:America/Denver
BEGIN:STANDARD
DTSTART:20241103T010000
TZOFFSETFROM:-0600
TZOFFSETTO:-0700
TZNAME:MST
END:STANDARD
END:VTIMEZONE
END:VCALENDAR