BEGIN:VCALENDAR
VERSION:2.0
PRODID:-//wp-events-plugin.com//7.2.3.1//EN
TZID:America/Denver
X-WR-TIMEZONE:America/Denver
BEGIN:VEVENT
UID:1959@westcusterlibrary.org
DTSTART;TZID=America/Denver:20250401T100000
DTEND;TZID=America/Denver:20250401T110000
DTSTAMP:20250220T001549Z
URL:https://www.westcusterlibrary.org/events/special-event-poetry-guest-tr
 acy-hermes/
SUMMARY:SPECIAL EVENT: POETRY GUEST TRACY HERMES
DESCRIPTION:Come and hear Tracy Hermes\, author of Wizardly Wit & Wisdom\, 
 for fun\, quirky\, and witty poetry. \n\nFun for ALL AGES. Children will h
 ave the opportunity to do a fun poetry craft.
ATTACH;FMTTYPE=image/jpeg:https://www.westcusterlibrary.org/wp-content/upl
 oads/2025/02/Poetrytalks.png
CATEGORIES:Adults,Age 9-14,Family,High School Students,Infant to Pre-K
 (ages 0-5),Kids (ages 5-10)
LOCATION:West Custer County Library Community Room\, 209 Main St\, Westclif
 fe\, CO\, United States
GEO:38.136419;-105.467999
X-APPLE-STRUCTURED-LOCATION;VALUE=URI;X-ADDRESS=209 Main St\, Westcliffe\, 
 CO\, United States;X-APPLE-RADIUS=100;X-TITLE=West Custer County Library C
 ommunity Room:geo:38.136419,-105.467999
END:VEVENT
BEGIN:VTIMEZONE
TZID:America/Denver
X-LIC-LOCATION:America/Denver
BEGIN:DAYLIGHT
DTSTART:20250309T030000
TZOFFSETFROM:-0700
TZOFFSETTO:-0600
TZNAME:MDT
END:DAYLIGHT
END:VTIMEZONE
END:VCALENDAR