BEGIN:VCALENDAR
VERSION:2.0
PRODID:-//wp-events-plugin.com//7.2.3.1//EN
TZID:America/Denver
X-WR-TIMEZONE:America/Denver
BEGIN:VEVENT
UID:2011@westcusterlibrary.org
DTSTART;TZID=America/Denver:20250422T100000
DTEND;TZID=America/Denver:20250422T110000
DTSTAMP:20250418T200331Z
URL:https://www.westcusterlibrary.org/events/solar-telescope-viewing-earth
 -day/
SUMMARY:SOLAR TELESCOPE VIEWING EARTH DAY
DESCRIPTION:Celebrate Earth Day at the West Custer County Library!  Join C
 huck Jagow Dark Skies President\, for a look through a Solar Telescope at 
 the Sun.  Chuck will set up the telescope for viewing on the sidewalk out
 side the library.  The solar  viewing is weather dependent.
ATTACH;FMTTYPE=image/jpeg:https://www.westcusterlibrary.org/wp-content/upl
 oads/2025/03/d7ffbd2f-e21f-465b-9f3f-bb1eec20ee81.png
CATEGORIES:Adults,Family
LOCATION:West Custer Library\, 209 Main Street\, Westcliffe\, Colorado\, Un
 ited States
GEO:38.136182;-105.468042
X-APPLE-STRUCTURED-LOCATION;VALUE=URI;X-ADDRESS=209 Main Street\, Westcliff
 e\, Colorado\, United States;X-APPLE-RADIUS=100;X-TITLE=West Custer Librar
 y:geo:38.136182,-105.468042
END:VEVENT
BEGIN:VTIMEZONE
TZID:America/Denver
X-LIC-LOCATION:America/Denver
BEGIN:DAYLIGHT
DTSTART:20250309T030000
TZOFFSETFROM:-0700
TZOFFSETTO:-0600
TZNAME:MDT
END:DAYLIGHT
END:VTIMEZONE
END:VCALENDAR