BEGIN:VCALENDAR
VERSION:2.0
PRODID:-//wp-events-plugin.com//7.2.3.1//EN
TZID:America/Denver
X-WR-TIMEZONE:America/Denver
BEGIN:VEVENT
UID:2139@westcusterlibrary.org
DTSTART;TZID=America/Denver:20250812T100000
DTEND;TZID=America/Denver:20250812T113000
DTSTAMP:20250728T171122Z
URL:https://www.westcusterlibrary.org/events/sand-creek-a-long-journey-of-
 reclamation-for-the-native-rio-grande-cutthroat-trout/
SUMMARY:Sand Creek- A Long Journey of Reclamation for the Native Rio Grande
  Cutthroat Trout
DESCRIPTION:Join Andrew Todd to hear his presentation on the Rio Grand Cutt
 hroat Trout.  Historically\, many in the Wet Mountain Valley have been dr
 awn to the Sand Creek Lakes due to their (relatively) easy accessibility a
 nd the outstanding fishing for hybrid cutthroat trout.  And while it has 
 long served as a great recreational resource\, since the early 2000s\, it 
 has been identified by biologists as an even more important strategic asse
 t in the long-term conservation strategy for the Colorado-native Rio Grand
 e cutthroat trout (RGCT).  After several decades of scientific study\, in
  2021\, all non-native fish were removed by Colorado Parks and Wildlife fr
 om the upper watershed and in 2024\, the lower watershed was treated all t
 he way to the sand.  Post-reclamation monitoring and reintroduction of th
 e RGCT is ongoing\, but early signs indicate that the watershed is recover
 ing well and that it will return to being an outstanding angling resource\
 , this time as a unique opportunity to catch a true Colorado native fish s
 pecies. 
ATTACH;FMTTYPE=image/jpeg:https://www.westcusterlibrary.org/wp-content/upl
 oads/2025/07/02defedb-4ee9-4235-b741-d77adc00dc93.png
CATEGORIES:Adults
LOCATION:West Custer County Library Community Room\, 209 Main St\, Westclif
 fe\, CO\, United States
GEO:38.136419;-105.467999
X-APPLE-STRUCTURED-LOCATION;VALUE=URI;X-ADDRESS=209 Main St\, Westcliffe\, 
 CO\, United States;X-APPLE-RADIUS=100;X-TITLE=West Custer County Library C
 ommunity Room:geo:38.136419,-105.467999
END:VEVENT
BEGIN:VTIMEZONE
TZID:America/Denver
X-LIC-LOCATION:America/Denver
BEGIN:DAYLIGHT
DTSTART:20250309T030000
TZOFFSETFROM:-0700
TZOFFSETTO:-0600
TZNAME:MDT
END:DAYLIGHT
END:VTIMEZONE
END:VCALENDAR