BEGIN:VCALENDAR
VERSION:2.0
PRODID:-//wp-events-plugin.com//7.2.3.1//EN
TZID:America/Denver
X-WR-TIMEZONE:America/Denver
BEGIN:VEVENT
UID:1802@westcusterlibrary.org
DTSTART;TZID=America/Denver:20250116T163000
DTEND;TZID=America/Denver:20250116T183000
DTSTAMP:20241210T221742Z
URL:https://www.westcusterlibrary.org/events/rock-climbing-session-two/
SUMMARY:Rock Climbing Session Two
DESCRIPTION:Join us at SKYRANCH HORNCREEK for a 2 hour session of indoor ro
 ck climbing. Free Pizza snack provided!\n\nThis session will be for HOMESC
 HOOL KIDS ONLY!!!\n\nWAIVER MUST BE SIGNED BY PARENT OR LEGAL GUARDIAN BEF
 ORE CLIMBING\nhttps://waiver.smartwaiver.com/e/BXVw9DaDmf99nXN9u9JS83/\n\n
 (Copy and paste into browser)\n\nLOCATION: SKYRANCH HORNCREEK 6758 County 
 Road 130\n
ATTACH;FMTTYPE=image/jpeg:https://www.westcusterlibrary.org/wp-content/upl
 oads/2024/12/Rock-Climbing.png
CATEGORIES:Age 9-14,High School Students
END:VEVENT
BEGIN:VTIMEZONE
TZID:America/Denver
X-LIC-LOCATION:America/Denver
BEGIN:STANDARD
DTSTART:20241103T010000
TZOFFSETFROM:-0600
TZOFFSETTO:-0700
TZNAME:MST
END:STANDARD
END:VTIMEZONE
END:VCALENDAR