BEGIN:VCALENDAR
VERSION:2.0
PRODID:-//wp-events-plugin.com//7.2.3.1//EN
TZID:America/Denver
X-WR-TIMEZONE:America/Denver
BEGIN:VEVENT
UID:2755@westcusterlibrary.org
DTSTART;TZID=America/Denver:20260122T170000
DTEND;TZID=America/Denver:20260122T190000
DTSTAMP:20251227T214255Z
URL:https://www.westcusterlibrary.org/events/rec-roll-2/
SUMMARY:REC & ROLL
DESCRIPTION:An Event for the whole Family!  GET ACTIVE THIS WINTER!\n\nJoi
 n us at Sky Ranch Horn Creek for a fun-filled time at the camps Recreation
  Center (bowling\, Rock Climbing\, basketball/volleyball\, indoor track\, 
 Racquet ball court).\n\nFREE Pizza snack included. REGISTER NOW!!\n\nParen
 t or guardian MUST accompany children for this event. A Sky Ranch Liabilit
 y waiver will need to be signed by parent/guardian for each person attendi
 ng the event upon arrival to the camp.
ATTACH;FMTTYPE=image/jpeg:https://www.westcusterlibrary.org/wp-content/upl
 oads/2025/11/updatedrecroll.png
CATEGORIES:Age 9-14,Family,High School Students,Infant to Pre-K (ages
 0-5),Kids (ages 5-10),Kids (ages 6-16),Teen (ages 14-18),Teens (ages
 11-18),Teens (ages 13-18)
LOCATION:https://www.google.com/maps/place/Sky+Ranch+Horn+Creek+Rec+Center/
 @38.0563803,-105.5307653,17z/data=!4m15!1m8!3m7!1s0x87144446c53a9319:0xa96
 c419f74fa2fca!2s6758+Co+Rd+130,+Westcliffe,+CO+81252!3b1!8m2!3d38.0563803!
 4d-105.5307653!16s%2Fg%2F11c5fmzdld!3m5!1s0x87144500590e5d7b:0x8be29c6a666
 4a6de!8m2!3d38.054861!4d-105.532087!16s%2Fg%2F11vr48gk5t?authuser=0&entry=
 ttu&g_ep=EgoyMDI1MTExNy4wIKXMDSoASAFQAw%3D%3D
END:VEVENT
BEGIN:VTIMEZONE
TZID:America/Denver
X-LIC-LOCATION:America/Denver
BEGIN:STANDARD
DTSTART:20251102T010000
TZOFFSETFROM:-0600
TZOFFSETTO:-0700
TZNAME:MST
END:STANDARD
END:VTIMEZONE
END:VCALENDAR