BEGIN:VCALENDAR
VERSION:2.0
PRODID:-//wp-events-plugin.com//7.2.3.1//EN
TZID:America/Denver
X-WR-TIMEZONE:America/Denver
BEGIN:VEVENT
UID:2179@westcusterlibrary.org
DTSTART;TZID=America/Denver:20250905T100000
DTEND;TZID=America/Denver:20250905T113000
DTSTAMP:20250729T200506Z
URL:https://www.westcusterlibrary.org/events/read-with-me/
SUMMARY:READ WITH ME
DESCRIPTION:FREE DONUTS &amp\; COFFEE + FREE BOOK "Pete the Cat visits the 
 library"\n\nThe West Custer County Library would love to present this new 
 Reading Program "Read With Me" by letting the public see our new "Reading 
 Kits" for checkout. We will have a quick "Reading Tips &amp\; Tricks" disc
 ussion by a certified Reading interventionist.\n\nEach Kit will include:\n
 \n 	2-3 books for reading level\n 	Activity/game\n 	Launchpad (non-WIFI ca
 ble tablet for books ONLY)\n\nAll of this was provided through the High Mo
 untain Hay Fever Children's Health Fund Grant.
ATTACH;FMTTYPE=image/jpeg:https://www.westcusterlibrary.org/wp-content/upl
 oads/2025/07/Readwithmesavethedate.png
CATEGORIES:Family,Infant to Pre-K (ages 0-5),Kids (ages 5-10),Kids (ages
 6-16),Mother &amp; Baby
LOCATION:West Custer County Library Community Room\, 209 Main St\, Westclif
 fe\, CO\, United States
GEO:38.136419;-105.467999
X-APPLE-STRUCTURED-LOCATION;VALUE=URI;X-ADDRESS=209 Main St\, Westcliffe\, 
 CO\, United States;X-APPLE-RADIUS=100;X-TITLE=West Custer County Library C
 ommunity Room:geo:38.136419,-105.467999
END:VEVENT
BEGIN:VTIMEZONE
TZID:America/Denver
X-LIC-LOCATION:America/Denver
BEGIN:DAYLIGHT
DTSTART:20250309T030000
TZOFFSETFROM:-0700
TZOFFSETTO:-0600
TZNAME:MDT
END:DAYLIGHT
END:VTIMEZONE
END:VCALENDAR