BEGIN:VCALENDAR
VERSION:2.0
PRODID:-//wp-events-plugin.com//7.2.3.1//EN
TZID:America/Denver
X-WR-TIMEZONE:America/Denver
BEGIN:VEVENT
UID:2186@westcusterlibrary.org
DTSTART;TZID=America/Denver:20250903T100000
DTEND;TZID=America/Denver:20250903T103000
DTSTAMP:20250821T203928Z
URL:https://www.westcusterlibrary.org/events/puppet-me-2025-09-03/
SUMMARY:Puppet & Me
DESCRIPTION:Join Julie Hutslar &amp\; Marty Minogue for a fantastic time of
  puppets\, laughter\, and fun.\n\nWhat kids &amp\; parents will experience
 :\n\n 	Sesame Street style of learning\n 	Learn 4 main communication style
 s (verbal\, fiery\, practical\, and feeling)\n 	Understand how they differ
 \, what their needs are\, how they demonstrate their feelings and needs\n 
 	Give confidence to each child to own and appreciate their personal commun
 ication style.\n\nAfter puppets\, stay for a free snack and play!
ATTACH;FMTTYPE=image/jpeg:https://www.westcusterlibrary.org/wp-content/upl
 oads/2025/08/Puppet-and-Me-Flyer-pdf.jpg
CATEGORIES:Family,Infant to Pre-K (ages 0-5),Mother &amp; Baby
LOCATION:West Custer County Library Community Room\, 209 Main St\, Westclif
 fe\, CO\, United States
GEO:38.136419;-105.467999
X-APPLE-STRUCTURED-LOCATION;VALUE=URI;X-ADDRESS=209 Main St\, Westcliffe\, 
 CO\, United States;X-APPLE-RADIUS=100;X-TITLE=West Custer County Library C
 ommunity Room:geo:38.136419,-105.467999
END:VEVENT
BEGIN:VTIMEZONE
TZID:America/Denver
X-LIC-LOCATION:America/Denver
BEGIN:DAYLIGHT
DTSTART:20250309T030000
TZOFFSETFROM:-0700
TZOFFSETTO:-0600
TZNAME:MDT
END:DAYLIGHT
END:VTIMEZONE
END:VCALENDAR