BEGIN:VCALENDAR
VERSION:2.0
PRODID:-//wp-events-plugin.com//7.2.3.1//EN
TZID:America/Denver
X-WR-TIMEZONE:America/Denver
BEGIN:VEVENT
UID:2563@westcusterlibrary.org
DTSTART;TZID=America/Denver:20251129T090000
DTEND;TZID=America/Denver:20251129T120000
DTSTAMP:20251024T181456Z
URL:https://www.westcusterlibrary.org/events/pokemon-community-card-swap/
SUMMARY:POKEMON COMMUNITY CARD SWAP
DESCRIPTION:FREE FOR KIDS 5-17 yrs ONLY! Kids must have a parent or guardia
 n with them. Coffee\, Tea and Donuts will be provided. FREE Pokemon Giveaw
 ays will be available.\n\nCARD SWAP RULES:\n\n 	Trading is voluntary: Trad
 ing is always optional\, and no one should feel pressured to make a trade.
  Children\, in particular\, should be coached on how to politely decline a
  trade.\n 	Trades should be final: Trades are final. Please be confident 
 in your trade before finalizing.\n 	No cash exchanges: Swaps should be car
 d-for-card only.\n 	The library is not responsible for trades: The event i
 s self-policed\, and the library will not intervene in disputes over the p
 erceived value of cards.\n 	Respect other participants: Encourage good spo
 rtsmanship\, respect\, and kindness during the event.\n
ATTACH;FMTTYPE=image/jpeg:https://www.westcusterlibrary.org/wp-content/upl
 oads/2025/10/PokemonTCG2.png
CATEGORIES:Age 9-14,Family,High School Students,Kids (ages 5-10),Kids
 (ages 6-16)
LOCATION:West Custer County Library Community Room\, 209 Main St\, Westclif
 fe\, CO\, United States
GEO:38.136419;-105.467999
X-APPLE-STRUCTURED-LOCATION;VALUE=URI;X-ADDRESS=209 Main St\, Westcliffe\, 
 CO\, United States;X-APPLE-RADIUS=100;X-TITLE=West Custer County Library C
 ommunity Room:geo:38.136419,-105.467999
END:VEVENT
BEGIN:VTIMEZONE
TZID:America/Denver
X-LIC-LOCATION:America/Denver
BEGIN:STANDARD
DTSTART:20251102T010000
TZOFFSETFROM:-0600
TZOFFSETTO:-0700
TZNAME:MST
END:STANDARD
END:VTIMEZONE
END:VCALENDAR