BEGIN:VCALENDAR
VERSION:2.0
PRODID:-//wp-events-plugin.com//7.2.3.1//EN
TZID:America/Denver
X-WR-TIMEZONE:America/Denver
BEGIN:VEVENT
UID:2095@westcusterlibrary.org
DTSTART;TZID=America/Denver:20250617T170000
DTEND;TZID=America/Denver:20250617T183000
DTSTAMP:20250527T173201Z
URL:https://www.westcusterlibrary.org/events/photo-editing-event/
SUMMARY:Photo Editing Workshop
DESCRIPTION:Master editing your photos using the FREE software you already 
 have. You'll be learning how to use Windows Photo to edit pictures in this
  workshop.  Please have a digital picture available for editing practice.
   No experience is needed for the class.  Please being your laptop to th
 e class.  Registration is Required.
ATTACH;FMTTYPE=image/jpeg:https://www.westcusterlibrary.org/wp-content/upl
 oads/2025/05/febfca05-da99-4b21-8692-a95e2f80d21c.png
CATEGORIES:Adults
LOCATION:West Custer County Library Community Room\, 209 Main St\, Westclif
 fe\, CO\, United States
GEO:38.136419;-105.467999
X-APPLE-STRUCTURED-LOCATION;VALUE=URI;X-ADDRESS=209 Main St\, Westcliffe\, 
 CO\, United States;X-APPLE-RADIUS=100;X-TITLE=West Custer County Library C
 ommunity Room:geo:38.136419,-105.467999
END:VEVENT
BEGIN:VTIMEZONE
TZID:America/Denver
X-LIC-LOCATION:America/Denver
BEGIN:DAYLIGHT
DTSTART:20250309T030000
TZOFFSETFROM:-0700
TZOFFSETTO:-0600
TZNAME:MDT
END:DAYLIGHT
END:VTIMEZONE
END:VCALENDAR